BEGIN:VCALENDAR
VERSION:2.0
PRODID:-//Square One - ECPv6.15.20//NONSGML v1.0//EN
CALSCALE:GREGORIAN
METHOD:PUBLISH
X-WR-CALNAME:Square One
X-ORIGINAL-URL:https://sqone.org
X-WR-CALDESC:Events for Square One
REFRESH-INTERVAL;VALUE=DURATION:PT1H
X-Robots-Tag:noindex
X-PUBLISHED-TTL:PT1H
BEGIN:VTIMEZONE
TZID:America/New_York
BEGIN:DAYLIGHT
TZOFFSETFROM:-0500
TZOFFSETTO:-0400
TZNAME:EDT
DTSTART:20240310T070000
END:DAYLIGHT
BEGIN:STANDARD
TZOFFSETFROM:-0400
TZOFFSETTO:-0500
TZNAME:EST
DTSTART:20241103T060000
END:STANDARD
BEGIN:DAYLIGHT
TZOFFSETFROM:-0500
TZOFFSETTO:-0400
TZNAME:EDT
DTSTART:20250309T070000
END:DAYLIGHT
BEGIN:STANDARD
TZOFFSETFROM:-0400
TZOFFSETTO:-0500
TZNAME:EST
DTSTART:20251102T060000
END:STANDARD
BEGIN:DAYLIGHT
TZOFFSETFROM:-0500
TZOFFSETTO:-0400
TZNAME:EDT
DTSTART:20260308T070000
END:DAYLIGHT
BEGIN:STANDARD
TZOFFSETFROM:-0400
TZOFFSETTO:-0500
TZNAME:EST
DTSTART:20261101T060000
END:STANDARD
BEGIN:DAYLIGHT
TZOFFSETFROM:-0500
TZOFFSETTO:-0400
TZNAME:EDT
DTSTART:20270314T070000
END:DAYLIGHT
BEGIN:STANDARD
TZOFFSETFROM:-0400
TZOFFSETTO:-0500
TZNAME:EST
DTSTART:20271107T060000
END:STANDARD
END:VTIMEZONE
BEGIN:VEVENT
DTSTART;TZID=America/New_York:20251113T130000
DTEND;TZID=America/New_York:20251113T140000
DTSTAMP:20260419T154710
CREATED:20251021T012131Z
LAST-MODIFIED:20251021T012647Z
UID:1309-1763038800-1763042400@sqone.org
SUMMARY:ONLINE: Building Children's Brains: Power of Language
DESCRIPTION:TO REGISTER\, PLEASE CLICK THE LINK UNDER “EVENT WEBSITE.” IT WILL TAKE YOU TO ECPDVA.ORG. Thank you for registering using our regional training calendar. In this interactive 1-hour session\, we’ll explore how everyday conversations and storytelling experiences support early brain development and lay the foundation for school readiness. We’ll dive into the science behind language-rich environments and share practical strategies to make every interaction—whether during play\, routines\, or storytime—a brain-boosting opportunity.
URL:https://sqone.org/event/building-childrens-brains-power-of-language/
LOCATION:ONLINE\, Online Class
CATEGORIES:Online Training
ATTACH;FMTTYPE=image/jpeg:https://sqone.org/wp-content/uploads/2019/07/Depositphotos_3170068_L.jpg
ORGANIZER;CN="Square One":MAILTO:director.squareone@gmail.com
END:VEVENT
BEGIN:VEVENT
DTSTART;TZID=America/New_York:20260427T190000
DTEND;TZID=America/New_York:20260427T200000
DTSTAMP:20260419T154710
CREATED:20260418T141235Z
LAST-MODIFIED:20260418T141323Z
UID:1390-1777316400-1777320000@sqone.org
SUMMARY:ONLINE: Decoding the 4 C’s of Misbehavior
DESCRIPTION:Every behavior communicates something. Join us as we learn about how to get ahead of challenging behaviors.
URL:https://sqone.org/event/online-decoding-the-4-cs-of-misbehavior/
LOCATION:ONLINE\, Online Class
CATEGORIES:Online Training
ATTACH;FMTTYPE=image/png:https://sqone.org/wp-content/uploads/2022/10/14.png
ORGANIZER;CN="Square One":MAILTO:director.squareone@gmail.com
END:VEVENT
END:VCALENDAR